BEGIN:VCALENDAR
VERSION:2.0
PRODID:-//eventon.com NONSGML v1.0//EN
CALSCALE:GREGORIAN
METHOD:PUBLISH
BEGIN:VEVENT
UID:69e89c2c09ffd
DTSTAMP:20260422T100012Z
DTSTART:20250531T200000Z
DTEND:20250531T235000Z
LOCATION:
SUMMARY:CULLINGWORTH CON CLUB - BRADFORD
DESCRIPTION:CULLINGWORTH CON CLUB - BRADFORD\nhttps://www.scarlettsings.co.
 uk/events/cullingworth-con-club-bradford/
URL:https://www.scarlettsings.co.uk/events/cullingworth-con-club-bradford/
END:VEVENT
END:VCALENDAR